BEGIN:VCALENDAR
VERSION:2.0
PRODID:-//Allen Eagle Choir - ECPv6.15.20//NONSGML v1.0//EN
CALSCALE:GREGORIAN
METHOD:PUBLISH
X-WR-CALNAME:Allen Eagle Choir
X-ORIGINAL-URL:https://alleneaglechoir.com
X-WR-CALDESC:Events for Allen Eagle Choir
REFRESH-INTERVAL;VALUE=DURATION:PT1H
X-Robots-Tag:noindex
X-PUBLISHED-TTL:PT1H
BEGIN:VTIMEZONE
TZID:America/Chicago
BEGIN:DAYLIGHT
TZOFFSETFROM:-0600
TZOFFSETTO:-0500
TZNAME:CDT
DTSTART:20250309T080000
END:DAYLIGHT
BEGIN:STANDARD
TZOFFSETFROM:-0500
TZOFFSETTO:-0600
TZNAME:CST
DTSTART:20251102T070000
END:STANDARD
BEGIN:DAYLIGHT
TZOFFSETFROM:-0600
TZOFFSETTO:-0500
TZNAME:CDT
DTSTART:20260308T080000
END:DAYLIGHT
BEGIN:STANDARD
TZOFFSETFROM:-0500
TZOFFSETTO:-0600
TZNAME:CST
DTSTART:20261101T070000
END:STANDARD
BEGIN:DAYLIGHT
TZOFFSETFROM:-0600
TZOFFSETTO:-0500
TZNAME:CDT
DTSTART:20270314T080000
END:DAYLIGHT
BEGIN:STANDARD
TZOFFSETFROM:-0500
TZOFFSETTO:-0600
TZNAME:CST
DTSTART:20271107T070000
END:STANDARD
END:VTIMEZONE
BEGIN:VEVENT
DTSTART;TZID=America/Chicago:20260427T163000
DTEND;TZID=America/Chicago:20260430T163000
DTSTAMP:20260423T093217
CREATED:20250812T024335Z
LAST-MODIFIED:20250812T024335Z
UID:2319-1777307400-1777566600@alleneaglechoir.com
SUMMARY:Encore May Show Nightly Rehearsals
DESCRIPTION:Time – TBA
URL:https://alleneaglechoir.com/?tribe_events=encore-may-show-nightly-rehearsals
LOCATION:Allen Performing Arts Center\, 300 Rivercrest Blvd\, Allen\, TX\, 75002
END:VEVENT
END:VCALENDAR